BEGIN:VCALENDAR
METHOD:PUBLISH
VERSION:2.0
PRODID:-//Emory-Druid Hills Official DG Visit//Calendar//EN

BEGIN:VEVENT
SUMMARY:Emory-Druid Hills | Emory-Druid Hills Official DG Visit
DESCRIPTION:Board Meeting: One Hour Before
X-ALT-DESC:Board Meeting: One Hour Before
UID:Event5595
DTSTART:20220126T171500Z
DTEND:20220126T191500Z
DTSTAMP:20210607T170741Z
LAST-MODIFIED:20210729T011932Z
END:VEVENT

END:VCALENDAR